BEGIN:VCALENDAR
VERSION:2.0
PRODID:-//wp-events-plugin.com//7.2.3.1//EN
TZID:Europe/Berlin
X-WR-TIMEZONE:Europe/Berlin
BEGIN:VEVENT
UID:84@initiative-oo.de
DTSTART;TZID=Europe/Berlin:20260502T130000
DTEND;TZID=Europe/Berlin:20260503T180000
DTSTAMP:20260422T100131Z
URL:https://initiative-oo.de/events/13-bad-goegginger-aktionstage-gesundhe
 it/
SUMMARY:13. Bad Gögginger Aktionstage Gesundheit
DESCRIPTION:Bereits zum 13. Mal veranstaltet die Tourist-Information Bad G
 ögging die „Mitmach-Messe“ Aktionstage Gesundheit. Am 02. und 03. Mai
  heißt es im und um das Kurhaus wieder ausprobieren und informieren. Gesu
 ndheits-Checks\, Fachvorträge\, Mitmachaktionen - das abwechslungsreiche 
 Aussteller- und Rahmenprogramm garantiert zwei spannende Messetage rund um
  das Thema Gesundheit und Organspende.\n\nBad Gögginger Aktionstage Gesun
 dheit | Bad Gögging\n\n&nbsp\;\n\nWir von der Initiativ Organspende Ostba
 yern bieten einen Infostand zur Organspende an.
ATTACH;FMTTYPE=image/jpeg:https://initiative-oo.de/wp-content/uploads/2025
 /04/Bad-Goegging-2024.jpg
CATEGORIES:Informationsstand
LOCATION:Kurhaus\, Am Brunnenforum 3\, Bad Gögging\, Bayern\, 93333\, Nied
 erbayern\, Deutschland
X-APPLE-STRUCTURED-LOCATION;VALUE=URI;X-ADDRESS=Am Brunnenforum 3\, Bad Gö
 gging\, Bayern\, 93333\, Niederbayern\, Deutschland;X-APPLE-RADIUS=100;X-T
 ITLE=Kurhaus:geo:0,0
END:VEVENT
BEGIN:VTIMEZONE
TZID:Europe/Berlin
X-LIC-LOCATION:Europe/Berlin
BEGIN:DAYLIGHT
DTSTART:20260329T030000
TZOFFSETFROM:+0100
TZOFFSETTO:+0200
TZNAME:CEST
END:DAYLIGHT
END:VTIMEZONE
END:VCALENDAR