BEGIN:VCALENDAR
VERSION:2.0
PRODID:-//wp-events-plugin.com//7.2.3.1//EN
TZID:Europe/Berlin
X-WR-TIMEZONE:Europe/Berlin
BEGIN:VEVENT
UID:30@initiative-oo.de
DTSTART;TZID=Europe/Berlin:20241127T190000
DTEND;TZID=Europe/Berlin:20241127T210000
DTSTAMP:20241201T193037Z
URL:https://initiative-oo.de/events/organspende-aus-sicht-der-medizin-und-
 der-patienten-vortrag-beim-csu-ortsverband-schierling/
SUMMARY:Organspende aus Sicht der Medizin und der Patienten\, Vortrag beim 
 CSU Ortsverband Schierling
DESCRIPTION:Erfolgreicher Vortrag zur Organspende in Schierling\n\nAm 27. N
 ovember 2024 fand in Schierling beim Ortsverband der CSU eine aufschlussre
 iche Veranstaltung zum Thema Organspende statt. Vor rund 50 interessierten
  Zuhörerinnen und Zuhörern referierten Prof. Dr. Bernhard Banas\, Leiter
  des Transplantationszentrum am Universitätsklinikum Regensburg und ein f
 ührender Experte der Transplantationsmedizin\, und Jürgen Hagenbuch\, 1.
  Vorstand der Hilfsgemeinschaft Dialysepatienten und Transplantierte Regen
 sburg/Straubing  und Sprecher der Initiative Organspende Ostbayern\, übe
 r die Bedeutung und die aktuellen Entwicklungen in der Organspende.\n\n\n\
 nDie Veranstaltung begann mit einem fesselnden Vortrag von Prof. Banas\, d
 er sowohl die medizinischen als auch die ethischen Aspekte der Organspende
  erläuterte. Er erklärte eindrucksvoll\, in einer klaren Sprache\, die H
 erausforderungen und Chancen der Transplantationsmedizin und ging auf die 
 dringende Notwendigkeit ein\, die Zahl der Organspenden in Deutschland zu 
 erhöhen. Das drastische Beispiel der Überlebenschancen von Patienten auf
  der Warteliste in Deutschland\, im Vergleich zum benachbarten Ländern wi
 e Österreich oder der Schweiz beeindruckte die Zuhörer und zog sich wie 
 ein roter Faden durch wesentliche Folien des Vortrags. Prof. Dr. Banas bet
 onte\, dass die Aufklärung und die Entmystifizierung von Organspende-Ents
 cheidungen eine zentrale Rolle spielen\, um mehr Menschen zu einer positiv
 en Haltung gegenüber der Organspende zu bewegen. \n\nJürgen Hagenbuch n
 utzte die Gelegenheit\, um aus der Perspektive eines Empfängers einer Leb
 endspende zu sprechen. Er  berichtete von seinen eigenen Erfahrungen und 
 den emotionalen sowie physischen Herausforderungen\, die mit einer Transpl
 antation verbunden sind. „Die Organspende ist nicht nur eine medizinisch
 e Entscheidung\, sondern auch eine zutiefst menschliche. Als Empfänger ei
 ner Lebendspende kann ich aus erster Hand sagen\, wie lebensverändernd ei
 ne Transplantation ist“.  Er betonte\, dass es entscheidend sei\, der B
 evölkerung die Bedeutung von Organspenden nahe zu bringen und zu einer En
 tscheidung zu motivieren. E ine Entscheidung zu Lebenszeiten entlastet die
  Angehörigen im Fall des Falles.\n\n \n\n&nbsp\;\n\nDie Teilnehmer der Ve
 ranstaltung zeigten sich sehr interessiert und diskutierten anschließend 
 engagiert mit den Referenten. Die Fragen behandelten eine Vielzahl von The
 men\, von rechtlichen und organisatorischen Aspekten der Organspende bis h
 in zu persönlichen Erfahrungen.\n\nDer Ortsvorsitzende Richard Limmer\, d
 er die Veranstaltung moderierte\, sorgte für einen reibungslosen Ablauf u
 nd bot am Ende noch dem Bundestagsabgeordneten Peter Laumer Gelegenheit de
 n Fahrplan zum Gesetzesentwurf Einführung Widerspruchslösung vorzustelle
 n. Es ist zu wünschen\, dass dieser Vorstoß\, noch in dieser Regierungs
 periode\, zu einem erfolgreichen Abschluss kommt.\n\nDie Infomaterialen fa
 nden guten Zuspruch und 17 Ausweise neue Besitzer.  Sowohl über die Akti
 on des UKR #Ostbayern Entscheidet Sich als auch die Aktivitäten der #Init
 iative Organspende Ostbayern konnten sich die Zuhörer intensiv austausche
 n. Mit dem positiven Erlebnis aus dem Abend wird die Initiative Organspend
 e beim Frühjahrsmarkt in Schierling am 13. April 2025 an prominenter Stel
 le vertreten sein.
ATTACH;FMTTYPE=image/jpeg:https://initiative-oo.de/wp-content/uploads/2024
 /11/IMG-20241128-WA0029.jpg
END:VEVENT
BEGIN:VTIMEZONE
TZID:Europe/Berlin
X-LIC-LOCATION:Europe/Berlin
BEGIN:STANDARD
DTSTART:20241027T020000
TZOFFSETFROM:+0200
TZOFFSETTO:+0100
TZNAME:CET
END:STANDARD
END:VTIMEZONE
END:VCALENDAR